Workbook

Sheet DIC AUDIT EMPRESAS 2025
A1: No. | B1: DEPARTAMENTO | C1: OPERATIVA | D1: ESPECIAL (Denuncia) | E1: ESPECIAL (Dirección Nacional de Ingresos) | F1: ESPECIAL (Prestaciones Económicas) | G1: Especial (Otras) | H1: TOTAL
A2: 1 | B2: Empresas Bocas del Toro | C2: 0 | D2: 0 | E2: 0 | F2: 1 | G2: 0 | H2: 1
A3: 2 | B3: Empresas Chiriquí | C3: 5 | D3: 0 | E3: 0 | F3: 8 | G3: 2 | H3: 15
A4: 3 | B4: Empresas Coclé | C4: 0 | D4: 0 | E4: 0 | F4: 11 | G4: 0 | H4: 11
A5: 4 | B5: Empresas Herrera-Los Santos | C5: 0 | D5: 0 | E5: 0 | F5: 3 | G5: 0 | H5: 3
A6: 5 | B6: Empresas Panamá | C6: -2 | D6: 3 | E6: 0 | F6: 189 | G6: 3 | H6: 193
A7: 6 | B7: Empresas Panamá Oeste | C7: 2 | D7: 0 | E7: 0 | F7: 0 | G7: 0 | H7: 2
A8: 7 | B8: Empresas Veraguas | C8: 0 | D8: 0 | E8: 0 | F8: 2 | G8: 0 | H8: 2

Sheet LINKS
A1: No. | B1: DEPARTAMENTO | C1: OPERATIVA | D1: ESPECIAL (Denuncia) | E1: ESPECIAL (Dirección Nacional de Ingresos) | F1: ESPECIAL (Prestaciones Económicas) | G1: Especial (Otras) | H1: TOTAL
A2: 1 | B2: Empresas Bocas del Toro | C2: ='[1]ESTAD3 OT OCT A DIC DIF ANTAI'!C38 -> 0 | D2: ='[1]ESTAD3 OT OCT A DIC DIF ANTAI'!D38 -> 0 | E2: ='[1]ESTAD3 OT OCT A DIC DIF ANTAI'!E38 -> 0 | F2: ='[1]ESTAD3 OT OCT A DIC DIF ANTAI'!F38 -> 1 | G2: ='[1]ESTAD3 OT OCT A DIC DIF ANTAI'!G38 -> 0 | H2: =SUM(C2:G2) -> 1
A3: 2 | B3: Empresas Chiriquí | C3: ='[1]ESTAD3 OT OCT A DIC DIF ANTAI'!C39 -> 5 | D3: ='[1]ESTAD3 OT OCT A DIC DIF ANTAI'!D39 -> 0 | E3: ='[1]ESTAD3 OT OCT A DIC DIF ANTAI'!E39 -> 0 | F3: ='[1]ESTAD3 OT OCT A DIC DIF ANTAI'!F39 -> 8 | G3: ='[1]ESTAD3 OT OCT A DIC DIF ANTAI'!G39 -> 2 | H3: =SUM(C3:G3) -> 15
A4: 3 | B4: Empresas Coclé | C4: ='[1]ESTAD3 OT OCT A DIC DIF ANTAI'!C40 -> 0 | D4: ='[1]ESTAD3 OT OCT A DIC DIF ANTAI'!D40 -> 0 | E4: ='[1]ESTAD3 OT OCT A DIC DIF ANTAI'!E40 -> 0 | F4: ='[1]ESTAD3 OT OCT A DIC DIF ANTAI'!F40 -> 11 | G4: ='[1]ESTAD3 OT OCT A DIC DIF ANTAI'!G40 -> 0 | H4: =SUM(C4:G4) -> 11
A5: 4 | B5: Empresas Herrera-Los Santos | C5: ='[1]ESTAD3 OT OCT A DIC DIF ANTAI'!C41 -> 0 | D5: ='[1]ESTAD3 OT OCT A DIC DIF ANTAI'!D41 -> 0 | E5: ='[1]ESTAD3 OT OCT A DIC DIF ANTAI'!E41 -> 0 | F5: ='[1]ESTAD3 OT OCT A DIC DIF ANTAI'!F41 -> 3 | G5: ='[1]ESTAD3 OT OCT A DIC DIF ANTAI'!G41 -> 0 | H5: =SUM(C5:G5) -> 3
A6: 5 | B6: Empresas Panamá | C6: ='[1]ESTAD3 OT OCT A DIC DIF ANTAI'!C42 -> -2 | D6: ='[1]ESTAD3 OT OCT A DIC DIF ANTAI'!D42 -> 3 | E6: ='[1]ESTAD3 OT OCT A DIC DIF ANTAI'!E42 -> 0 | F6: ='[1]ESTAD3 OT OCT A DIC DIF ANTAI'!F42 -> 189 | G6: ='[1]ESTAD3 OT OCT A DIC DIF ANTAI'!G42 -> 3 | H6: =SUM(C6:G6) -> 193
A7: 6 | B7: Empresas Panamá Oeste | C7: ='[1]ESTAD3 OT OCT A DIC DIF ANTAI'!C43 -> 2 | D7: ='[1]ESTAD3 OT OCT A DIC DIF ANTAI'!D43 -> 0 | E7: ='[1]ESTAD3 OT OCT A DIC DIF ANTAI'!E43 -> 0 | F7: ='[1]ESTAD3 OT OCT A DIC DIF ANTAI'!F43 -> 0 | G7: ='[1]ESTAD3 OT OCT A DIC DIF ANTAI'!G43 -> 0 | H7: =SUM(C7:G7) -> 2
A8: 7 | B8: Empresas Veraguas | C8: ='[1]ESTAD3 OT OCT A DIC DIF ANTAI'!C44 -> 0 | D8: ='[1]ESTAD3 OT OCT A DIC DIF ANTAI'!D44 -> 0 | E8: ='[1]ESTAD3 OT OCT A DIC DIF ANTAI'!E44 -> 0 | F8: ='[1]ESTAD3 OT OCT A DIC DIF ANTAI'!F44 -> 2 | G8: ='[1]ESTAD3 OT OCT A DIC DIF ANTAI'!G44 -> 0 | H8: =SUM(C8:G8) -> 2
C10: =SUM(C2:C8) -> 5 | D10: =SUM(D2:D8) -> 3 | E10: =SUM(E2:E8) -> 0 | F10: =SUM(F2:F8) -> 214 | G10: =SUM(G2:G8) -> 5 | H10: =SUM(H2:H8) -> 227
C11: =C10-'[1]ESTAD3 OT OCT A DIC DIF ANTAI'!C45 -> 0 | D11: =D10-'[1]ESTAD3 OT OCT A DIC DIF ANTAI'!D45 -> 0 | E11: =E10-'[1]ESTAD3 OT OCT A DIC DIF ANTAI'!E45 -> 0 | F11: =F10-'[1]ESTAD3 OT OCT A DIC DIF ANTAI'!F45 -> 0 | G11: =G10-'[1]ESTAD3 OT OCT A DIC DIF ANTAI'!G45 -> 0 | H11: =H10-'[1]ESTAD3 OT OCT A DIC DIF ANTAI'!H45 -> 0
C13: =SUM('DIC AUDIT EMPRESAS 2025'!C2:C8)-LINKS!C10 -> 0 | D13: =SUM('DIC AUDIT EMPRESAS 2025'!D2:D8)-LINKS!D10 -> 0 | E13: =SUM('DIC AUDIT EMPRESAS 2025'!E2:E8)-LINKS!E10 -> 0 | F13: =SUM('DIC AUDIT EMPRESAS 2025'!F2:F8)-LINKS!F10 -> 0 | G13: =SUM('DIC AUDIT EMPRESAS 2025'!G2:G8)-LINKS!G10 -> 0 | H13: =SUM('DIC AUDIT EMPRESAS 2025'!H2:H8)-LINKS!H10 -> 0
