Workbook

Sheet DIC AUDIT INTERNA 2025
A1: No. | B1: Departamento | C1: Convenio | D1: Especial | E1: Operativa | F1: Seguimiento | G1: Total
A2: 1 | B2: Auditoría Interna | C2: 0 | D2: 3 | E2: 3 | F2: 3 | G2: 9
A3: 2 | B3: Bocas del Toro | C3: 0 | D3: 0 | E3: 0 | F3: 1 | G3: 1
A4: 3 | B4: Chiriquí- Interna | C4: 0 | D4: 3 | E4: 6 | F4: 3 | G4: 12
A5: 4 | B5: Ciudad de la Salud | C5: 0 | D5: 0 | E5: 0 | F5: 3 | G5: 3
A6: 5 | B6: Coclé | C6: 0 | D6: 0 | E6: 9 | F6: 4 | G6: 13
A7: 6 | B7: Colón | C7: 0 | D7: 2 | E7: 2 | F7: 8 | G7: 12
A8: 7 | B8: Compra e Inventario | C8: 0 | D8: 0 | E8: 4 | F8: 0 | G8: 4
A9: 8 | B9: Convenios | C9: 9 | D9: 2 | E9: 0 | F9: 0 | G9: 11
A10: 9 | B10: Dirección Ténica de Control Gerencial | C10: 0 | D10: 1 | E10: 0 | F10: 0 | G10: 1
A11: 10 | B11: Dirección y Coordinación | C11: 0 | D11: 1 | E11: 0 | F11: 0 | G11: 1
A12: 11 | B12: Especiales | C12: 0 | D12: 5 | E12: 0 | F12: 0 | G12: 5
A13: 12 | B13: Financiera | C13: 0 | D13: 0 | E13: 2 | F13: 1 | G13: 3
... A19: 18 | B19: Panamá Oeste | C19: 0 | D19: 0 | E19: 4 | F19: 2 | G19: 6

Sheet Links
A1: No. | B1: Departamento | C1: Convenio | D1: Especial | E1: Operativa | F1: Seguimiento | G1: Total
A2: 1 | B2: Auditoría Interna | C2: ='[1]ESTAD3 OT OCT A DIC DIF ANTAI'!C8 -> 0 | D2: ='[1]ESTAD3 OT OCT A DIC DIF ANTAI'!D8 -> 3 | E2: ='[1]ESTAD3 OT OCT A DIC DIF ANTAI'!E8 -> 3 | F2: ='[1]ESTAD3 OT OCT A DIC DIF ANTAI'!F8 -> 3 | G2: =SUM(C2:F2) -> 9
A3: 2 | B3: Bocas del Toro | C3: ='[1]ESTAD3 OT OCT A DIC DIF ANTAI'!C9 -> 0 | D3: ='[1]ESTAD3 OT OCT A DIC DIF ANTAI'!D9 -> 0 | E3: ='[1]ESTAD3 OT OCT A DIC DIF ANTAI'!E9 -> 0 | F3: ='[1]ESTAD3 OT OCT A DIC DIF ANTAI'!F9 -> 1 | G3: =SUM(C3:F3) -> 1
A4: 3 | B4: Chiriquí- Interna | C4: ='[1]ESTAD3 OT OCT A DIC DIF ANTAI'!C10 -> 0 | D4: ='[1]ESTAD3 OT OCT A DIC DIF ANTAI'!D10 -> 3 | E4: ='[1]ESTAD3 OT OCT A DIC DIF ANTAI'!E10 -> 6 | F4: ='[1]ESTAD3 OT OCT A DIC DIF ANTAI'!F10 -> 3 | G4: =SUM(C4:F4) -> 12
A5: 4 | B5: Ciudad de la Salud | C5: ='[1]ESTAD3 OT OCT A DIC DIF ANTAI'!C11 -> 0 | D5: ='[1]ESTAD3 OT OCT A DIC DIF ANTAI'!D11 -> 0 | E5: ='[1]ESTAD3 OT OCT A DIC DIF ANTAI'!E11 -> 0 | F5: ='[1]ESTAD3 OT OCT A DIC DIF ANTAI'!F11 -> 3 | G5: =SUM(C5:F5) -> 3
A6: 5 | B6: Coclé | C6: ='[1]ESTAD3 OT OCT A DIC DIF ANTAI'!C12 -> 0 | D6: ='[1]ESTAD3 OT OCT A DIC DIF ANTAI'!D12 -> 0 | E6: ='[1]ESTAD3 OT OCT A DIC DIF ANTAI'!E12 -> 9 | F6: ='[1]ESTAD3 OT OCT A DIC DIF ANTAI'!F12 -> 4 | G6: =SUM(C6:F6) -> 13
A7: 6 | B7: Colón | C7: ='[1]ESTAD3 OT OCT A DIC DIF ANTAI'!C13 -> 0 | D7: ='[1]ESTAD3 OT OCT A DIC DIF ANTAI'!D13 -> 2 | E7: ='[1]ESTAD3 OT OCT A DIC DIF ANTAI'!E13 -> 2 | F7: ='[1]ESTAD3 OT OCT A DIC DIF ANTAI'!F13 -> 8 | G7: =SUM(C7:F7) -> 12
A8: 7 | B8: Compra e Inventario | C8: ='[1]ESTAD3 OT OCT A DIC DIF ANTAI'!C14 -> 0 | D8: ='[1]ESTAD3 OT OCT A DIC DIF ANTAI'!D14 -> 0 | E8: ='[1]ESTAD3 OT OCT A DIC DIF ANTAI'!E14 -> 4 | F8: ='[1]ESTAD3 OT OCT A DIC DIF ANTAI'!F14 -> 0 | G8: =SUM(C8:F8) -> 4
A9: 8 | B9: Convenios | C9: ='[1]ESTAD3 OT OCT A DIC DIF ANTAI'!C15 -> 9 | D9: ='[1]ESTAD3 OT OCT A DIC DIF ANTAI'!D15 -> 2 | E9: ='[1]ESTAD3 OT OCT A DIC DIF ANTAI'!E15 -> 0 | F9: ='[1]ESTAD3 OT OCT A DIC DIF ANTAI'!F15 -> 0 | G9: =SUM(C9:F9) -> 11
A10: 9 | B10: Dirección Ténica de Control Gerencial | C10: ='[1]ESTAD3 OT OCT A DIC DIF ANTAI'!C16 -> 0 | D10: ='[1]ESTAD3 OT OCT A DIC DIF ANTAI'!D16 -> 1 | E10: ='[1]ESTAD3 OT OCT A DIC DIF ANTAI'!E16 -> 0 | F10: ='[1]ESTAD3 OT OCT A DIC DIF ANTAI'!F16 -> 0 | G10: =SUM(C10:F10) -> 1
A11: 10 | B11: Dirección y Coordinación | C11: ='[1]ESTAD3 OT OCT A DIC DIF ANTAI'!C17 -> 0 | D11: ='[1]ESTAD3 OT OCT A DIC DIF ANTAI'!D17 -> 1 | E11: ='[1]ESTAD3 OT OCT A DIC DIF ANTAI'!E17 -> 0 | F11: ='[1]ESTAD3 OT OCT A DIC DIF ANTAI'!F17 -> 0 | G11: =SUM(C11:F11) -> 1
A12: 11 | B12: Especiales | C12: ='[1]ESTAD3 OT OCT A DIC DIF ANTAI'!C18 -> 0 | D12: ='[1]ESTAD3 OT OCT A DIC DIF ANTAI'!D18 -> 5 | E12: ='[1]ESTAD3 OT OCT A DIC DIF ANTAI'!E18 -> 0 | F12: ='[1]ESTAD3 OT OCT A DIC DIF ANTAI'!F18 -> 0 | G12: =SUM(C12:F12) -> 5
A13: 12 | B13: Financiera | C13: ='[1]ESTAD3 OT OCT A DIC DIF ANTAI'!C19 -> 0 | D13: ='[1]ESTAD3 OT OCT A DIC DIF ANTAI'!D19 -> 0 | E13: ='[1]ESTAD3 OT OCT A DIC DIF ANTAI'!E19 -> 2 | F13: ='[1]ESTAD3 OT OCT A DIC DIF ANTAI'!F19 -> 1 | G13: =SUM(C13:F13) -> 3
... A19: 18 | B19: Panamá Oeste | C19: ='[1]ESTAD3 OT OCT A DIC DIF ANTAI'!C25 -> 0 | D19: ='[1]ESTAD3 OT OCT A DIC DIF ANTAI'!D25 -> 0 | E19: ='[1]ESTAD3 OT OCT A DIC DIF ANTAI'!E25 -> 4 | F19: ='[1]ESTAD3 OT OCT A DIC DIF ANTAI'!F25 -> 2 | G19: =SUM(C19:F19) -> 6
C21: =SUM(C2:C20) -> 9 | D21: =SUM(D2:D20) -> 28 | E21: =SUM(E2:E20) -> 65 | F21: =SUM(F2:F20) -> 32 | G21: =SUM(G2:G20) -> 134
C22: =C21-'[1]ESTAD3 OT OCT A DIC DIF ANTAI'!C27 -> 0 | D22: =D21-'[1]ESTAD3 OT OCT A DIC DIF ANTAI'!D27 -> 0 | E22: =E21-'[1]ESTAD3 OT OCT A DIC DIF ANTAI'!E27 -> 0 | F22: =F21-'[1]ESTAD3 OT OCT A DIC DIF ANTAI'!F27 -> 0 | G22: =G21-'[1]ESTAD3 OT OCT A DIC DIF ANTAI'!G27 -> 0
C24: =SUM('DIC AUDIT INTERNA 2025'!C2:C19)-Links!C21 -> 0 | D24: =SUM('DIC AUDIT INTERNA 2025'!D2:D19)-Links!D21 -> 0 | E24: =SUM('DIC AUDIT INTERNA 2025'!E2:E19)-Links!E21 -> 0 | F24: =SUM('DIC AUDIT INTERNA 2025'!F2:F19)-Links!F21 -> 0 | G24: =SUM('DIC AUDIT INTERNA 2025'!G2:G19)-Links!G21 -> 0
