Workbook

Sheet 26.1
A1: E+A1:G16n cumplimiento del articulo 26 (Ley 6 de 2002) NOVIEMBRE DE 2025
A2: Nº | C2: Solicitudes presentadas | D2: Atención a Solicitudes | G2: Observaciones | H2: Nº
D3: Resueltas | E3: No Admitidas | F3: En tramite
A4: 1+A4:G41 | B4: Certificado de Baliza | C4: 1 | D4: 1 | E4: 0 | F4: 0
A5: 2 | B5: Certificado de Posicionamiento | C5: 2 | D5: 2 | E5: 0 | F5: 0
A6: 3 | B6: Presentación de Recursos de Reconsideración | C6: 0 | D6: 0 | E6: 0 | F6: 0 | G6: No se presentaron solicitudes | I6: PRESENTADAS | J6: Resueltas | K6: No Admitidas | L6: En Tramite
A7: 4 | B7: Presentación de Recursos de Apelación | C7: 0 | D7: 0 | E7: 0 | F7: 0 | G7: No se presentaron solicitudes | H7: Solicitudes de Certificaciones | I7: =SUM(C4+C5+C8+C9+C10+C11+C17+C19+C21+C31+C32+C34+C39+C52) -> 83 | J7: =SUM(D4+D5+D8+D9+D10+D11+D17+D19+D21+D31+D32+D34+D39+D52) -> 82 | K7: =SUM(E4+E5+E8+E9+E10+E11+E17+E19+E21+E31+E32+E34+E39+E52) -> 0 | L7: =SUM(F4+F5+F8+F9+F10+F11+F17+F19+F21+F31+F32+F34+F39+F52) -> 5
A8: 5 | B8: Certificados de Captura y Simplificado | C8: 18 | D8: 18 | E8: 0 | F8: 0 | H8: Solicitudes de Inspección | I8: =SUM(C14+C15+C16+C18+C20+C22) -> 6 | J8: =SUM(D14+D15+D16+D18+D20+D22) -> 0 | K8: =SUM(E14+E15+E16+E18+E20+E22) -> 0 | L8: =SUM(F14+F15+F16+F18+F20+F22) -> 0
A9: 6 | B9: Certificado Estadísticos de Patudo | C9: 13 | D9: 13 | E9: 0 | F9: 0 | H9: Solicitudes de Tramites | I9: =SUM(C6+C7+C12+C13+C23+C24+C25+C26+C27+C28+C29+C30+C35+C36+C37+C38+C40+C41+C42+C43+C44+C45+C46+C47+C48+C49+C53+C54+C55) -> 356 | J9: =SUM(D6+D7+D12+D13+D23+D24+D25+D26+D27+D28+D29+D30+D35+D36+D37+D38+D40+D41+D42+D43+D44+D45+D46+D47+D48+D49+D53+D54+D55) -> 358 | K9: =SUM(E6+E7+E12+E13+E23+E24+E25+E26+E27+E28+E29+E30+E35+E36+E37+E38+E40+E41+E42+E43+E44+E45+E46+E47+E48+E49+E53+E54+E55) -> 0 | L9: =SUM(F6+F7+F12+F13+F23+F24+F25+F26+F27+F28+F29+F30+F35+F36+F37+F38+F40+F41+F42+F43+F44+F45+F46+F47+F48+F49+F53+F54+F55) -> 2
A10: 7 | B10: Certificado Estadístico de Pez Espada | C10: 0 | D10: 0 | E10: 0 | F10: 0
A11: 8 | B11: Dolphine Safe | C11: 11 | D11: 10 | E11: 0 | F11: 0
A12: 9 | B12: Solicitud de Zarpe de Pesca | C12: 115 | D12: 115 | E12: 0 | F12: 0
A13: 10 | B13: Autorizaciones de Trasbordo | C13: 224 | D13: 224 | E13: 0 | F13: 0
A14: 11 | B14: Inspección Semestral de Naves | C14: 0 | D14: 0 | E14: 0 | F14: 0 | G14: No se presentaron solicitudes
A15: 12 | B15: Inspección a buques de servicio internacional con pabellón panameño | C15: 6 | D15: 0 | E15: 0 | F15: 0
A16: 13 | B16: Inspección de Importación de Redes | C16: 0 | D16: 0 | E16: 0 | F16: 0
A17: 14 | B17: Exportaciones de aleta de tiburón | C17: 0 | D17: 0 | E17: 0 | F17: 0 | G17: No se presentaron solicitudes
A18: 15 | B18: Inventario a Locales Veda de Camarón | C18: 0 | D18: 0 | E18: 0 | F18: 0 | G18: No se presentaron solicitudes
A19: 16 | B19: Salvoconducto Veda de Camarón | C19: 0 | D19: 0 | E19: 0 | F19: 0
A20: 17 | B20: Inventario a Locales Veda de Langosta | C20: 0 | D20: 0 | E20: 0 | F20: 0 | G20: No se presentaron solicitudes
A21: 18 | B21: Salvoconducto Veda de Langosta | C21: 0 | D21: 0 | E21: 0 | F21: 0 | G21: No se presentaron solicitudes
A22: 19 | B22: Validaciones de permiso de pesca ribereña, palangre | C22: 0 | D22: 0 | E22: 0 | F22: 0 | G22: No se presentaron solicitudes
A23: 20 | B23: Autorización de Desembarque en Puerto no autorizado por licencia | C23: 8 | D23: 8 | E23: 0 | F23: 0
A24: 21 | B24: Autorización Desembarque de buque de servicio internacional en puerto panameño | C24: 0 | E24: 0 | F24: 0
A25: 22 | B25: Autorización Desembarque de buque de servicio internacional en puerto no panameño | C25: 0 | D25: 0 | E25: 0 | F25: 0 | G25: No se presentaron solicitudes
A26: 23 | B26: Autorización de trasbordo de buque de servicio internacional en puerto panameño | C26: 0 | D26: 0 | E26: 0 | F26: 0 | G26: No se presentaron solicitudes
A27: 24 | B27: Autorización de trasbordo de buque de servicio internacional en puerto no panameño | C27: 0 | D27: 0 | E27: 0 | F27: 0
A28: 25 | B28: Autorización de naves extranjeras en puerto panameño | C28: 0 | D28: 0 | E28: 0 | F28: 0
A29: 26 | B29: Autorización de Tránsito o Viaje Crucero | C29: 0 | D29: 0 | E29: 0 | F29: 0
A30: 27 | B30: No objeción de Registro de Buques | C30: 0 | D30: 0 | E30: 0 | F30: 0
B31: Licencia Internacional | C31: 0 | D31: 0 | E31: 0 | F31: 0 | G31: Durante el mes de noviembre no se ingresaron solicitudes de Licencias Internacionales de Pesca
B32: Licencia de Pesca Nacional | C32: 33 | D32: 33 | E32: 0 | F32: 0 | G32: Durante el mes de noviembre se recibieron (14) solictudes de Licencias nacionales para Panamá centro de renovaciones. Renovación y emisión de licencias nacionales para la región de Panamá centro, renovado e impreso en sede central: 19 la cual fueron entregadas a los propietarios.
A33: 30 | B33: Nuevas licencias de pesca de pequeña escala y Renovaciones de licencias de pesca de pequeña escala (Ribereña) | C33: 13 | D33: 13 | E33: 0 | F33: 0 | G33: Durante el mes de noviembre se recibieron (13) solictudes de renovaciones de Licencias de pesca de pequeña escala para Panamá centro. Renovación y Nuevas licencias nacionales de pequeña escala para la región de Panamá centro y regionales, las cuales fueron emitidas y entregada a los propietarios.
A34: 31 | B34: Autorización nueva para pescar en la Zona Especial de Protección Marina al Sistema SIEPA (Deportivo Turistico y Recreativo) | C34: 0 | D34: 0 | E34: 0 | F34: 0 | G34: . Durante el mes de noviembre no se solicito ninguna autorizacion para pescar en la Zona Especial.
A35: 32 | B35: ZEPM Renovaciones ( Comercial y Turistica) | C35: 0 | D35: 0 | E35: 0 | F35: 0 | G35: En el mes de noviembre se tramito ninguna renovación.
A36: 33 | B36: Carnets de pesca lacustre | C36: 0 | D36: 0 | E36: 0 | F36: 0 | G36: En el mes de noviembre no se tramito ninguna renovación.
A37: 34 | B37: Licencia Anual de Extracción de Poliqueto | C37: 0 | D37: 0 | E37: 0 | F37: 0 | G37: En el mes de noviembre no se dio ninguna LIcencia Anual de extraccion de Poliquetos.
A38: 35 | B38: Solicitud de extracción de poliquetos | C38: 0 | D38: 0 | E38: 0 | F38: 0 | G38: En el mes de noviembrese no se dio niguna solicitud extraccion de Poliquetos.
A39: 36 | B39: Exportación de poliquetos | C39: 0 | D39: 0 | E39: 0 | F39: 0 | G39: Durante el mes de noviembre no se solicito exportación (de Poliquetos.
A40: 37 | B40: Carné de Extractor de Poliqueto | C40: 0 | D40: 0 | E40: 0 | F40: 0 | G40: En el mes de noviembreno se presento ninguna solicitud de Extractor de Poliquetos
...

Sheet formulas
B1: Solicitudes presentadas =SUMA(C6+C7+C10+C11+C12+C13+C14+C15+C23+C24+C32+C33+C34+C35+C43+C47+C54+C52+C40+c41+C38+C39+C19) Solicitudes resueltas =SUMA(C16+C17+C18+C20+C22+C25+C26+C27+C28+C29+C36+C30+C31) No admitidas =SUMA(C8+C9+C53+C48+C57+C56+C42+C37+C44+C45+C46++c49+C50+C51+C52+C54+C55)

Sheet 26.2
A5: Mes de noviembre 2025
A6: En cumplimiento del articulo 26 (Ley 6 de 2002)
B7: Solicitudes Resueltas | C7: Solicitudes Negadas | D7: Solicitudes en Tramite | E7: Total
A8: Certificaciones | B8: ='26.1'!J7 -> 82 | C8: ='26.1'!K7 -> 0 | D8: ='26.1'!L7 -> 5 | E8: =SUM(B8+B9+B10) -> 444
A9: Inspecciones | B9: ='26.1'!I8 -> 6 | C9: ='26.1'!K8 -> 0 | D9: ='26.1'!L8 -> 0 | E9: =SUM(C8+C9+C10) -> 0
A10: Tramites Varios | B10: ='26.1'!I9 -> 356 | C10: ='26.1'!K9 -> 0 | D10: ='26.1'!L9 -> 2 | E10: =SUM(B10:D10) -> 358
C12: =SUM(C8:C11) -> 0
